BEGIN:VCALENDAR
VERSION:2.0
PRODID:-//Start-Rite Driver Education - Driving Classes &amp; Courses in Grande Prairie, AB - ECPv6.15.20//NONSGML v1.0//EN
CALSCALE:GREGORIAN
METHOD:PUBLISH
X-ORIGINAL-URL:https://www.startrite.ca
X-WR-CALDESC:Events for Start-Rite Driver Education - Driving Classes &amp; Courses in Grande Prairie, AB
REFRESH-INTERVAL;VALUE=DURATION:PT1H
X-Robots-Tag:noindex
X-PUBLISHED-TTL:PT1H
BEGIN:VTIMEZONE
TZID:America/Edmonton
BEGIN:DAYLIGHT
TZOFFSETFROM:-0700
TZOFFSETTO:-0600
TZNAME:MDT
DTSTART:20240310T090000
END:DAYLIGHT
BEGIN:STANDARD
TZOFFSETFROM:-0600
TZOFFSETTO:-0700
TZNAME:MST
DTSTART:20241103T080000
END:STANDARD
BEGIN:DAYLIGHT
TZOFFSETFROM:-0700
TZOFFSETTO:-0600
TZNAME:MDT
DTSTART:20250309T090000
END:DAYLIGHT
BEGIN:STANDARD
TZOFFSETFROM:-0600
TZOFFSETTO:-0700
TZNAME:MST
DTSTART:20251102T080000
END:STANDARD
BEGIN:DAYLIGHT
TZOFFSETFROM:-0700
TZOFFSETTO:-0600
TZNAME:MDT
DTSTART:20260308T090000
END:DAYLIGHT
BEGIN:STANDARD
TZOFFSETFROM:-0600
TZOFFSETTO:-0700
TZNAME:MST
DTSTART:20261101T080000
END:STANDARD
END:VTIMEZONE
BEGIN:VEVENT
DTSTART;TZID=America/Edmonton:20250704T080000
DTEND;TZID=America/Edmonton:20250704T173000
DTSTAMP:20260420T085857
CREATED:20250625T153201Z
LAST-MODIFIED:20250625T153201Z
UID:5482-1751616000-1751650200@www.startrite.ca
SUMMARY:Airbrakes Training
DESCRIPTION:Airbrakes Training Course \nCourse Includes: \n\n1 day in classroom training\nStudent must have a valid Alberta license\nCost of the Airbrakes course is $250.00\n\nAny out of province license’s must be changed to Alberta prior to class starting  \n  \n\nStudent must pass a 30 question knowledge test at any Alberta Registry office to have the “Q” endorsement put on their license.
URL:https://www.startrite.ca/event/airbrakes-training-8/
LOCATION:Start-Rite Grande Prairie Office\, 8502 – 112 Street Suite 101\, Grande Prairie\, AB\, T8V 6S4\, Canada
CATEGORIES:Air Brakes Training
ORGANIZER;CN="Start-Rite Driver Education":MAILTO:info@startrite.ca
GEO:55.1571897;-118.8354266
X-APPLE-STRUCTURED-LOCATION;VALUE=URI;X-ADDRESS=Start-Rite Grande Prairie Office 8502 – 112 Street Suite 101 Grande Prairie AB T8V 6S4 Canada;X-APPLE-RADIUS=500;X-TITLE=8502 – 112 Street Suite 101:geo:-118.8354266,55.1571897
END:VEVENT
BEGIN:VEVENT
DTSTART;TZID=America/Edmonton:20250711T080000
DTEND;TZID=America/Edmonton:20250711T173000
DTSTAMP:20260420T085857
CREATED:20250708T143939Z
LAST-MODIFIED:20250708T143939Z
UID:5500-1752220800-1752255000@www.startrite.ca
SUMMARY:Airbrakes Training
DESCRIPTION:Airbrakes Training Course \nCourse Includes: \n\n1 day in classroom training\nStudent must have a valid Alberta license\nCost of the Airbrakes course is $250.00\n\nAny out of province license’s must be changed to Alberta prior to class starting  \n  \n\nStudent must pass a 30 question knowledge test at any Alberta Registry office to have the “Q” endorsement put on their license.
URL:https://www.startrite.ca/event/airbrakes-training-9/
LOCATION:Start-Rite Grande Prairie Office\, 8502 – 112 Street Suite 101\, Grande Prairie\, AB\, T8V 6S4\, Canada
CATEGORIES:Air Brakes Training
ORGANIZER;CN="Start-Rite Driver Education":MAILTO:info@startrite.ca
GEO:55.1571897;-118.8354266
X-APPLE-STRUCTURED-LOCATION;VALUE=URI;X-ADDRESS=Start-Rite Grande Prairie Office 8502 – 112 Street Suite 101 Grande Prairie AB T8V 6S4 Canada;X-APPLE-RADIUS=500;X-TITLE=8502 – 112 Street Suite 101:geo:-118.8354266,55.1571897
END:VEVENT
BEGIN:VEVENT
DTSTART;TZID=America/Edmonton:20250718T080000
DTEND;TZID=America/Edmonton:20250718T173000
DTSTAMP:20260420T085857
CREATED:20250708T144014Z
LAST-MODIFIED:20250708T144014Z
UID:5502-1752825600-1752859800@www.startrite.ca
SUMMARY:Airbrakes Training
DESCRIPTION:Airbrakes Training Course \nCourse Includes: \n\n1 day in classroom training\nStudent must have a valid Alberta license\nCost of the Airbrakes course is $250.00\n\nAny out of province license’s must be changed to Alberta prior to class starting  \n  \n\nStudent must pass a 30 question knowledge test at any Alberta Registry office to have the “Q” endorsement put on their license.
URL:https://www.startrite.ca/event/airbrakes-training-10/
LOCATION:Start-Rite Grande Prairie Office\, 8502 – 112 Street Suite 101\, Grande Prairie\, AB\, T8V 6S4\, Canada
CATEGORIES:Air Brakes Training
ORGANIZER;CN="Start-Rite Driver Education":MAILTO:info@startrite.ca
GEO:55.1571897;-118.8354266
X-APPLE-STRUCTURED-LOCATION;VALUE=URI;X-ADDRESS=Start-Rite Grande Prairie Office 8502 – 112 Street Suite 101 Grande Prairie AB T8V 6S4 Canada;X-APPLE-RADIUS=500;X-TITLE=8502 – 112 Street Suite 101:geo:-118.8354266,55.1571897
END:VEVENT
BEGIN:VEVENT
DTSTART;TZID=America/Edmonton:20250721T090000
DTEND;TZID=America/Edmonton:20250723T150000
DTSTAMP:20260420T085857
CREATED:20250609T161736Z
LAST-MODIFIED:20250609T162451Z
UID:5461-1753088400-1753282800@www.startrite.ca
SUMMARY:Class 3 Training
DESCRIPTION:Class 3 Driver Training \n3 – Day Course excluding Saturdays\, Sundays\, and Holidays \n\n15 hours in truck training including pre-trip training and driving (5 hours per day)\n$135.00 fee for the use of the truck you trained in for your road test.\nAdditional hours will be added if student requires more training @ $135.00 an hour\nHours of in truck instruction\n\nStudents MUST have a Full Class 5 Alberta Drivers License to start the program. \nCost for this course is $2550.00 with a non-refundable deposit at time of booking. \nTotal payment must be paid 1 month prior to course start date or Start-Rite reserves the right to pull the student from the course. \nSeparate costs paid by the student include: \n\nAirbrakes Course  must be taken before training begins. Cost for the Airbrakes Course is $250.00 and is 1-day 8:00 am – 5:00 pm \nClass 3 Knowledge Test at a Registries Office must be passed before training begins.\nRoad Test Truck Time Fee: $135.00\nRoad Test Permit: $155.00
URL:https://www.startrite.ca/event/class-3-training-3/
LOCATION:Start-Rite Grande Prairie Office\, 8502 – 112 Street Suite 101\, Grande Prairie\, AB\, T8V 6S4\, Canada
CATEGORIES:Class 3 Training
ORGANIZER;CN="Start-Rite Driver Education":MAILTO:info@startrite.ca
GEO:55.1571897;-118.8354266
X-APPLE-STRUCTURED-LOCATION;VALUE=URI;X-ADDRESS=Start-Rite Grande Prairie Office 8502 – 112 Street Suite 101 Grande Prairie AB T8V 6S4 Canada;X-APPLE-RADIUS=500;X-TITLE=8502 – 112 Street Suite 101:geo:-118.8354266,55.1571897
END:VEVENT
BEGIN:VEVENT
DTSTART;TZID=America/Edmonton:20250728T090000
DTEND;TZID=America/Edmonton:20250730T150000
DTSTAMP:20260420T085857
CREATED:20250609T162222Z
LAST-MODIFIED:20250609T162821Z
UID:5465-1753693200-1753887600@www.startrite.ca
SUMMARY:Class 3 Training
DESCRIPTION:3 – Day Course excluding Saturdays\, Sundays\, and Holidays \n\n15 hours in truck training including pre-trip training and driving (5 hours per day)\n$135.00 fee for the use of the truck you trained in for your road test.\nAdditional hours will be added if student requires more training @ $135.00 an hour\nHours of in truck instruction\n\nStudents MUST have a Full Class 5 Alberta Drivers License to start the program. \nCost for this course is $2550.00 with a non-refundable deposit at time of booking. \nTotal payment must be paid 1 month prior to course start date or Start-Rite reserves the right to pull the student from the course. \nSeparate costs paid by the student include: \n\nAirbrakes Course  must be taken before training begins. Cost for the Airbrakes Course is $250.00 and is 1-day 8:00 am – 5:00 pm \nClass 3 Knowledge Test at a Registries Office must be passed before training begins.\nRoad Test Truck Time Fee: $135.00\nRoad Test Permit: $155.00
URL:https://www.startrite.ca/event/class-3-training-4/
LOCATION:Start-Rite Grande Prairie Office\, 8502 – 112 Street Suite 101\, Grande Prairie\, AB\, T8V 6S4\, Canada
CATEGORIES:Class 3 Training
ORGANIZER;CN="Start-Rite Driver Education":MAILTO:info@startrite.ca
GEO:55.1571897;-118.8354266
X-APPLE-STRUCTURED-LOCATION;VALUE=URI;X-ADDRESS=Start-Rite Grande Prairie Office 8502 – 112 Street Suite 101 Grande Prairie AB T8V 6S4 Canada;X-APPLE-RADIUS=500;X-TITLE=8502 – 112 Street Suite 101:geo:-118.8354266,55.1571897
END:VEVENT
END:VCALENDAR