BEGIN:VCALENDAR
VERSION:2.0
PRODID:-//Start-Rite Driver Education - Driving Classes &amp; Courses in Grande Prairie, AB - ECPv6.15.20//NONSGML v1.0//EN
CALSCALE:GREGORIAN
METHOD:PUBLISH
X-WR-CALNAME:Start-Rite Driver Education - Driving Classes &amp; Courses in Grande Prairie, AB
X-ORIGINAL-URL:https://www.startrite.ca
X-WR-CALDESC:Events for Start-Rite Driver Education - Driving Classes &amp; Courses in Grande Prairie, AB
REFRESH-INTERVAL;VALUE=DURATION:PT1H
X-Robots-Tag:noindex
X-PUBLISHED-TTL:PT1H
BEGIN:VTIMEZONE
TZID:America/Edmonton
BEGIN:DAYLIGHT
TZOFFSETFROM:-0700
TZOFFSETTO:-0600
TZNAME:MDT
DTSTART:20240310T090000
END:DAYLIGHT
BEGIN:STANDARD
TZOFFSETFROM:-0600
TZOFFSETTO:-0700
TZNAME:MST
DTSTART:20241103T080000
END:STANDARD
BEGIN:DAYLIGHT
TZOFFSETFROM:-0700
TZOFFSETTO:-0600
TZNAME:MDT
DTSTART:20250309T090000
END:DAYLIGHT
BEGIN:STANDARD
TZOFFSETFROM:-0600
TZOFFSETTO:-0700
TZNAME:MST
DTSTART:20251102T080000
END:STANDARD
BEGIN:DAYLIGHT
TZOFFSETFROM:-0700
TZOFFSETTO:-0600
TZNAME:MDT
DTSTART:20260308T090000
END:DAYLIGHT
BEGIN:STANDARD
TZOFFSETFROM:-0600
TZOFFSETTO:-0700
TZNAME:MST
DTSTART:20261101T080000
END:STANDARD
END:VTIMEZONE
BEGIN:VEVENT
DTSTART;TZID=America/Edmonton:20250902T080000
DTEND;TZID=America/Edmonton:20250912T170000
DTSTAMP:20260420T053332
CREATED:20250819T185602Z
LAST-MODIFIED:20250819T191914Z
UID:5530-1756800000-1757696400@www.startrite.ca
SUMMARY:Learning Pathways Class 1
DESCRIPTION:Learning Pathways Class 1 program set by: Alberta Transportation \n10-day course excluding Saturdays\, Sundays\, and Holidays \n8:00 am – 5:00 p.m. Monday through Friday \nLearning Pathways Course Includes: \n      Entry Program – $250.00 paid to Alberta Transportation (driver.training.alberta.ca) \nStudents must have a myalberta.ca account to sign in to do the online lessons \n\n40 hours of online training\n\nCore Learning Program – $6800.00 \n\n60 hours of in truck training including in-yard and in-cab training\n\nWhen the Core Learning has been completed students can do a Provincial Restricted Class 1 Road Test. The Restricted Class 1 allows students to drive Class 1within Alberta. \nCompetence Building – $2500.00 \n\n17-25 more hours of driver training\nWill focus on results of the Provincial Class 1 road test\n\n  \n\nStudents must have a full Class 5 Alberta Driver’s License to start the program.\nStudents must have a passed Driver’s Class 1 Medical before starting the program.\nAirbrakes Course must be taken before training begins. Cost for the Airbrakes Course is $250.00 and is 1-day 8:00am – 5:30 pm\nStudents must pass a Class 1 Knowledge Test at a Registries office after the classroom portion of the program before a Road Test can be confirmed.\nMandatory attendance is required to complete the program in the dates you have chosen to attend.\n\nA non-refundable deposit of $2000 due at time of booking. Total payment must be paid 1-month prior to course start date or Start-Rite reserves the right to pull the student from the Course.  There is a $300 fee for the use of our truck you trained in for your road test.  Training hours over and above the allotted time is $150 per hour. \n  \nSeparate costs paid by the student include: \n\nRoad Test Permit $217\nRoad Test Truck Time Fee $300\nDrivers Class 1 Medical\nAirbrakes at Start-Rite\nClass 1 Knowledge Test and Airbrakes Knowledge Test at a Registries Office $17.60 per test\n\nIf you require further assistance\, please don’t hesitate to call or email us. \nFUNDING: Information and application can be found on Alberta Transportation website.
URL:https://www.startrite.ca/event/learning-pathways-class-1/
LOCATION:Start-Rite Grande Prairie Office\, 8502 – 112 Street Suite 101\, Grande Prairie\, AB\, T8V 6S4\, Canada
CATEGORIES:Learning Pathways Class 1
ORGANIZER;CN="Start-Rite Driver Education":MAILTO:info@startrite.ca
GEO:55.1571897;-118.8354266
X-APPLE-STRUCTURED-LOCATION;VALUE=URI;X-ADDRESS=Start-Rite Grande Prairie Office 8502 – 112 Street Suite 101 Grande Prairie AB T8V 6S4 Canada;X-APPLE-RADIUS=500;X-TITLE=8502 – 112 Street Suite 101:geo:-118.8354266,55.1571897
END:VEVENT
BEGIN:VEVENT
DTSTART;TZID=America/Edmonton:20250902T090000
DTEND;TZID=America/Edmonton:20250904T150000
DTSTAMP:20260420T053332
CREATED:20250625T202632Z
LAST-MODIFIED:20250625T202632Z
UID:5484-1756803600-1756998000@www.startrite.ca
SUMMARY:Class 3 Training
DESCRIPTION:3 – Day Course excluding Saturdays\, Sundays\, and Holidays \n\n15 hours in truck training including pre-trip training and driving (5 hours per day)\n$135.00 fee for the use of the truck you trained in for your road test.\nAdditional hours will be added if student requires more training @ $135.00 an hour\nHours of in truck instruction\n\nStudents MUST have a Full Class 5 Alberta Drivers License to start the program. \nCost for this course is $2550.00 with a non-refundable deposit at time of booking. \nTotal payment must be paid 1 month prior to course start date or Start-Rite reserves the right to pull the student from the course. \nSeparate costs paid by the student include: \n\nAirbrakes Course  must be taken before training begins. Cost for the Airbrakes Course is $250.00 and is 1-day 8:00 am – 5:00 pm \nClass 3 Knowledge Test at a Registries Office must be passed before training begins.\nRoad Test Truck Time Fee: $135.00\nRoad Test Permit: $155.00
URL:https://www.startrite.ca/event/class-3-training-6/
LOCATION:Start-Rite Grande Prairie Office\, 8502 – 112 Street Suite 101\, Grande Prairie\, AB\, T8V 6S4\, Canada
CATEGORIES:Class 3 Training
ORGANIZER;CN="Start-Rite Driver Education":MAILTO:info@startrite.ca
GEO:55.1571897;-118.8354266
X-APPLE-STRUCTURED-LOCATION;VALUE=URI;X-ADDRESS=Start-Rite Grande Prairie Office 8502 – 112 Street Suite 101 Grande Prairie AB T8V 6S4 Canada;X-APPLE-RADIUS=500;X-TITLE=8502 – 112 Street Suite 101:geo:-118.8354266,55.1571897
END:VEVENT
BEGIN:VEVENT
DTSTART;TZID=America/Edmonton:20250908T090000
DTEND;TZID=America/Edmonton:20250910T150000
DTSTAMP:20260420T053332
CREATED:20250625T202746Z
LAST-MODIFIED:20250625T202746Z
UID:5486-1757322000-1757516400@www.startrite.ca
SUMMARY:Class 3 Training
DESCRIPTION:3 – Day Course excluding Saturdays\, Sundays\, and Holidays \n\n15 hours in truck training including pre-trip training and driving (5 hours per day)\n$135.00 fee for the use of the truck you trained in for your road test.\nAdditional hours will be added if student requires more training @ $135.00 an hour\nHours of in truck instruction\n\nStudents MUST have a Full Class 5 Alberta Drivers License to start the program. \nCost for this course is $2550.00 with a non-refundable deposit at time of booking. \nTotal payment must be paid 1 month prior to course start date or Start-Rite reserves the right to pull the student from the course. \nSeparate costs paid by the student include: \n\nAirbrakes Course  must be taken before training begins. Cost for the Airbrakes Course is $250.00 and is 1-day 8:00 am – 5:00 pm \nClass 3 Knowledge Test at a Registries Office must be passed before training begins.\nRoad Test Truck Time Fee: $135.00\nRoad Test Permit: $155.00
URL:https://www.startrite.ca/event/class-3-training-7/
LOCATION:Start-Rite Grande Prairie Office\, 8502 – 112 Street Suite 101\, Grande Prairie\, AB\, T8V 6S4\, Canada
CATEGORIES:Class 3 Training
ORGANIZER;CN="Start-Rite Driver Education":MAILTO:info@startrite.ca
GEO:55.1571897;-118.8354266
X-APPLE-STRUCTURED-LOCATION;VALUE=URI;X-ADDRESS=Start-Rite Grande Prairie Office 8502 – 112 Street Suite 101 Grande Prairie AB T8V 6S4 Canada;X-APPLE-RADIUS=500;X-TITLE=8502 – 112 Street Suite 101:geo:-118.8354266,55.1571897
END:VEVENT
BEGIN:VEVENT
DTSTART;TZID=America/Edmonton:20250912T080000
DTEND;TZID=America/Edmonton:20250912T170000
DTSTAMP:20260420T053332
CREATED:20250819T192558Z
LAST-MODIFIED:20250819T192558Z
UID:5539-1757664000-1757696400@www.startrite.ca
SUMMARY:Airbrakes Training
DESCRIPTION:Airbrakes Training Course \nCourse Includes: \n\n1 day in classroom training\nStudent must have a valid Alberta license\nCost of the Airbrakes course is $250.00\n\nAny out of province license’s must be changed to Alberta prior to class starting  \n  \n\nStudent must pass a 30 question knowledge test at any Alberta Registry office to have the “Q” endorsement put on their license.
URL:https://www.startrite.ca/event/airbrakes-training-18/
LOCATION:Start-Rite Grande Prairie Office\, 8502 – 112 Street Suite 101\, Grande Prairie\, AB\, T8V 6S4\, Canada
CATEGORIES:Air Brakes Training
ORGANIZER;CN="Start-Rite Driver Education":MAILTO:info@startrite.ca
GEO:55.1571897;-118.8354266
X-APPLE-STRUCTURED-LOCATION;VALUE=URI;X-ADDRESS=Start-Rite Grande Prairie Office 8502 – 112 Street Suite 101 Grande Prairie AB T8V 6S4 Canada;X-APPLE-RADIUS=500;X-TITLE=8502 – 112 Street Suite 101:geo:-118.8354266,55.1571897
END:VEVENT
BEGIN:VEVENT
DTSTART;TZID=America/Edmonton:20250915T080000
DTEND;TZID=America/Edmonton:20250926T170000
DTSTAMP:20260420T053332
CREATED:20250819T192048Z
LAST-MODIFIED:20250820T155235Z
UID:5534-1757923200-1758906000@www.startrite.ca
SUMMARY:Learning Pathways Class 1
DESCRIPTION:Learning Pathways Class 1 program set by: Alberta Transportation \n10-day course excluding Saturdays\, Sundays\, and Holidays \nTraining times will vary but will be completed Monday through Friday (Call for details) \nLearning Pathways Course Includes: \n      Entry Program – $250.00 paid to Alberta Transportation (driver.training.alberta.ca) \nStudents must have a myalberta.ca account to sign in to do the online lessons \n\n40 hours of online training\n\nCore Learning Program – $6800.00 \n\n60 hours of in truck training including in-yard and in-cab training\n\nWhen the Core Learning has been completed students can do a Provincial Restricted Class 1 Road Test. The Restricted Class 1 allows students to drive Class 1within Alberta. \nCompetence Building – $2500.00 \n\n17-25 more hours of driver training\nWill focus on results of the Provincial Class 1 road test\n\n  \n\nStudents must have a full Class 5 Alberta Driver’s License to start the program.\nStudents must have a passed Driver’s Class 1 Medical before starting the program.\nAirbrakes Course must be taken before training begins. Cost for the Airbrakes Course is $250.00 and is 1-day 8:00am – 5:30 pm\nStudents must pass a Class 1 Knowledge Test at a Registries office after the classroom portion of the program before a Road Test can be confirmed.\nMandatory attendance is required to complete the program in the dates you have chosen to attend.\n\nA non-refundable deposit of $2000 due at time of booking. Total payment must be paid 1-month prior to course start date or Start-Rite reserves the right to pull the student from the Course.  There is a $300 fee for the use of our truck you trained in for your road test.  Training hours over and above the allotted time is $150 per hour. \n  \nSeparate costs paid by the student include: \n\nRoad Test Permit $217\nRoad Test Truck Time Fee $300\nDrivers Class 1 Medical\nAirbrakes at Start-Rite\nClass 1 Knowledge Test and Airbrakes Knowledge Test at a Registries Office $17.60 per test\n\nIf you require further assistance\, please don’t hesitate to call or email us. \nFUNDING: Information and application can be found on Alberta Transportation website.
URL:https://www.startrite.ca/event/learning-pathways-class-1-2/
LOCATION:Start-Rite Grande Prairie Office\, 8502 – 112 Street Suite 101\, Grande Prairie\, AB\, T8V 6S4\, Canada
CATEGORIES:Learning Pathways Class 1
ORGANIZER;CN="Start-Rite Driver Education":MAILTO:info@startrite.ca
GEO:55.1571897;-118.8354266
X-APPLE-STRUCTURED-LOCATION;VALUE=URI;X-ADDRESS=Start-Rite Grande Prairie Office 8502 – 112 Street Suite 101 Grande Prairie AB T8V 6S4 Canada;X-APPLE-RADIUS=500;X-TITLE=8502 – 112 Street Suite 101:geo:-118.8354266,55.1571897
END:VEVENT
BEGIN:VEVENT
DTSTART;TZID=America/Edmonton:20250915T090000
DTEND;TZID=America/Edmonton:20250917T150000
DTSTAMP:20260420T053332
CREATED:20250625T202917Z
LAST-MODIFIED:20250625T202917Z
UID:5490-1757926800-1758121200@www.startrite.ca
SUMMARY:Class 3 Training
DESCRIPTION:3 – Day Course excluding Saturdays\, Sundays\, and Holidays \n\n15 hours in truck training including pre-trip training and driving (5 hours per day)\n$135.00 fee for the use of the truck you trained in for your road test.\nAdditional hours will be added if student requires more training @ $135.00 an hour\nHours of in truck instruction\n\nStudents MUST have a Full Class 5 Alberta Drivers License to start the program. \nCost for this course is $2550.00 with a non-refundable deposit at time of booking. \nTotal payment must be paid 1 month prior to course start date or Start-Rite reserves the right to pull the student from the course. \nSeparate costs paid by the student include: \n\nAirbrakes Course  must be taken before training begins. Cost for the Airbrakes Course is $250.00 and is 1-day 8:00 am – 5:00 pm \nClass 3 Knowledge Test at a Registries Office must be passed before training begins.\nRoad Test Truck Time Fee: $135.00\nRoad Test Permit: $155.00
URL:https://www.startrite.ca/event/class-3-training-8/
LOCATION:Start-Rite Grande Prairie Office\, 8502 – 112 Street Suite 101\, Grande Prairie\, AB\, T8V 6S4\, Canada
CATEGORIES:Class 3 Training
ORGANIZER;CN="Start-Rite Driver Education":MAILTO:info@startrite.ca
GEO:55.1571897;-118.8354266
X-APPLE-STRUCTURED-LOCATION;VALUE=URI;X-ADDRESS=Start-Rite Grande Prairie Office 8502 – 112 Street Suite 101 Grande Prairie AB T8V 6S4 Canada;X-APPLE-RADIUS=500;X-TITLE=8502 – 112 Street Suite 101:geo:-118.8354266,55.1571897
END:VEVENT
BEGIN:VEVENT
DTSTART;TZID=America/Edmonton:20250922T090000
DTEND;TZID=America/Edmonton:20250924T150000
DTSTAMP:20260420T053332
CREATED:20250625T203004Z
LAST-MODIFIED:20250625T203004Z
UID:5492-1758531600-1758726000@www.startrite.ca
SUMMARY:Class 3 Training
DESCRIPTION:3 – Day Course excluding Saturdays\, Sundays\, and Holidays \n\n15 hours in truck training including pre-trip training and driving (5 hours per day)\n$135.00 fee for the use of the truck you trained in for your road test.\nAdditional hours will be added if student requires more training @ $135.00 an hour\nHours of in truck instruction\n\nStudents MUST have a Full Class 5 Alberta Drivers License to start the program. \nCost for this course is $2550.00 with a non-refundable deposit at time of booking. \nTotal payment must be paid 1 month prior to course start date or Start-Rite reserves the right to pull the student from the course. \nSeparate costs paid by the student include: \n\nAirbrakes Course  must be taken before training begins. Cost for the Airbrakes Course is $250.00 and is 1-day 8:00 am – 5:00 pm \nClass 3 Knowledge Test at a Registries Office must be passed before training begins.\nRoad Test Truck Time Fee: $135.00\nRoad Test Permit: $155.00
URL:https://www.startrite.ca/event/class-3-training-9/
LOCATION:Start-Rite Grande Prairie Office\, 8502 – 112 Street Suite 101\, Grande Prairie\, AB\, T8V 6S4\, Canada
CATEGORIES:Class 3 Training
ORGANIZER;CN="Start-Rite Driver Education":MAILTO:info@startrite.ca
GEO:55.1571897;-118.8354266
X-APPLE-STRUCTURED-LOCATION;VALUE=URI;X-ADDRESS=Start-Rite Grande Prairie Office 8502 – 112 Street Suite 101 Grande Prairie AB T8V 6S4 Canada;X-APPLE-RADIUS=500;X-TITLE=8502 – 112 Street Suite 101:geo:-118.8354266,55.1571897
END:VEVENT
BEGIN:VEVENT
DTSTART;TZID=America/Edmonton:20250929T080000
DTEND;TZID=America/Edmonton:20251001T170000
DTSTAMP:20260420T053332
CREATED:20250805T194834Z
LAST-MODIFIED:20250805T194834Z
UID:5517-1759132800-1759338000@www.startrite.ca
SUMMARY:Class 3 Training
DESCRIPTION:3 – Day Course excluding Saturdays\, Sundays\, and Holidays \n\n15 hours in truck training including pre-trip training and driving (5 hours per day)\n$135.00 fee for the use of the truck you trained in for your road test.\nAdditional hours will be added if student requires more training @ $135.00 an hour\nHours of in truck instruction\n\nStudents MUST have a Full Class 5 Alberta Drivers License to start the program. \nCost for this course is $2550.00 with a non-refundable deposit at time of booking. \nTotal payment must be paid 1 month prior to course start date or Start-Rite reserves the right to pull the student from the course. \nSeparate costs paid by the student include: \n\nAirbrakes Course  must be taken before training begins. Cost for the Airbrakes Course is $250.00 and is 1-day 8:00 am – 5:00 pm \nClass 3 Knowledge Test at a Registries Office must be passed before training begins.\nRoad Test Truck Time Fee: $135.00\nRoad Test Permit: $155.00
URL:https://www.startrite.ca/event/class-3-training-10/
LOCATION:Start-Rite Grande Prairie Office\, 8502 – 112 Street Suite 101\, Grande Prairie\, AB\, T8V 6S4\, Canada
CATEGORIES:Class 3 Training
ORGANIZER;CN="Start-Rite Driver Education":MAILTO:info@startrite.ca
GEO:55.1571897;-118.8354266
X-APPLE-STRUCTURED-LOCATION;VALUE=URI;X-ADDRESS=Start-Rite Grande Prairie Office 8502 – 112 Street Suite 101 Grande Prairie AB T8V 6S4 Canada;X-APPLE-RADIUS=500;X-TITLE=8502 – 112 Street Suite 101:geo:-118.8354266,55.1571897
END:VEVENT
BEGIN:VEVENT
DTSTART;TZID=America/Edmonton:20250929T080000
DTEND;TZID=America/Edmonton:20251010T170000
DTSTAMP:20260420T053332
CREATED:20250903T215535Z
LAST-MODIFIED:20250903T215535Z
UID:5563-1759132800-1760115600@www.startrite.ca
SUMMARY:Learning Pathways Class 1
DESCRIPTION:Learning Pathways Class 1 program set by: Alberta Transportation \n10-day course excluding Saturdays\, Sundays\, and Holidays \n8:00 am – 5:00 p.m. Monday through Friday \nLearning Pathways Course Includes: \n      Entry Program – $250.00 paid to Alberta Transportation (driver.training.alberta.ca) \nStudents must have a myalberta.ca account to sign in to do the online lessons \n\n40 hours of online training\n\nCore Learning Program – $6800.00 \n\n60 hours of in truck training including in-yard and in-cab training\n\nWhen the Core Learning has been completed students can do a Provincial Restricted Class 1 Road Test. The Restricted Class 1 allows students to drive Class 1within Alberta. \nCompetence Building – $2500.00 \n\n17-25 more hours of driver training\nWill focus on results of the Provincial Class 1 road test\n\n  \n\nStudents must have a full Class 5 Alberta Driver’s License to start the program.\nStudents must have a passed Driver’s Class 1 Medical before starting the program.\nAirbrakes Course must be taken before training begins. Cost for the Airbrakes Course is $250.00 and is 1-day 8:00am – 5:30 pm\nStudents must pass a Class 1 Knowledge Test at a Registries office after the classroom portion of the program before a Road Test can be confirmed.\nMandatory attendance is required to complete the program in the dates you have chosen to attend.\n\nA non-refundable deposit of $2000 due at time of booking. Total payment must be paid 1-month prior to course start date or Start-Rite reserves the right to pull the student from the Course.  There is a $300 fee for the use of our truck you trained in for your road test.  Training hours over and above the allotted time is $150 per hour. \n  \nSeparate costs paid by the student include: \n\nRoad Test Permit $217\nRoad Test Truck Time Fee $300\nDrivers Class 1 Medical\nAirbrakes at Start-Rite\nClass 1 Knowledge Test and Airbrakes Knowledge Test at a Registries Office $17.60 per test\n\nIf you require further assistance\, please don’t hesitate to call or email us. \nFUNDING: Information and application can be found on Alberta Transportation website.
URL:https://www.startrite.ca/event/learning-pathways-class-1-3/
LOCATION:Start-Rite Grande Prairie Office\, 8502 – 112 Street Suite 101\, Grande Prairie\, AB\, T8V 6S4\, Canada
CATEGORIES:Learning Pathways Class 1
ORGANIZER;CN="Start-Rite Driver Education":MAILTO:info@startrite.ca
GEO:55.1571897;-118.8354266
X-APPLE-STRUCTURED-LOCATION;VALUE=URI;X-ADDRESS=Start-Rite Grande Prairie Office 8502 – 112 Street Suite 101 Grande Prairie AB T8V 6S4 Canada;X-APPLE-RADIUS=500;X-TITLE=8502 – 112 Street Suite 101:geo:-118.8354266,55.1571897
END:VEVENT
END:VCALENDAR