BEGIN:VCALENDAR
VERSION:2.0
PRODID:-//Start-Rite Driver Education - Driving Classes &amp; Courses in Grande Prairie, AB - ECPv6.15.20//NONSGML v1.0//EN
CALSCALE:GREGORIAN
METHOD:PUBLISH
X-ORIGINAL-URL:https://www.startrite.ca
X-WR-CALDESC:Events for Start-Rite Driver Education - Driving Classes &amp; Courses in Grande Prairie, AB
REFRESH-INTERVAL;VALUE=DURATION:PT1H
X-Robots-Tag:noindex
X-PUBLISHED-TTL:PT1H
BEGIN:VTIMEZONE
TZID:America/Edmonton
BEGIN:DAYLIGHT
TZOFFSETFROM:-0700
TZOFFSETTO:-0600
TZNAME:MDT
DTSTART:20240310T090000
END:DAYLIGHT
BEGIN:STANDARD
TZOFFSETFROM:-0600
TZOFFSETTO:-0700
TZNAME:MST
DTSTART:20241103T080000
END:STANDARD
BEGIN:DAYLIGHT
TZOFFSETFROM:-0700
TZOFFSETTO:-0600
TZNAME:MDT
DTSTART:20250309T090000
END:DAYLIGHT
BEGIN:STANDARD
TZOFFSETFROM:-0600
TZOFFSETTO:-0700
TZNAME:MST
DTSTART:20251102T080000
END:STANDARD
BEGIN:DAYLIGHT
TZOFFSETFROM:-0700
TZOFFSETTO:-0600
TZNAME:MDT
DTSTART:20260308T090000
END:DAYLIGHT
BEGIN:STANDARD
TZOFFSETFROM:-0600
TZOFFSETTO:-0700
TZNAME:MST
DTSTART:20261101T080000
END:STANDARD
END:VTIMEZONE
BEGIN:VEVENT
DTSTART;TZID=America/Edmonton:20251229T080000
DTEND;TZID=America/Edmonton:20251231T170000
DTSTAMP:20260420T004005
CREATED:20251020T220026Z
LAST-MODIFIED:20251020T220026Z
UID:5619-1766995200-1767200400@www.startrite.ca
SUMMARY:Learning Pathways Class 1 Competence Building
DESCRIPTION:Learning Pathways Class 1 Competence Building program set by: Alberta Transportation \n3-day course excluding Saturdays\, Sundays\, and Holidays \nTraining times will vary but will be completed Monday through Friday (Call for details) \n  \nCompetence Building – $2500.00 \n\n24 more hours of driver training\nWill focus on results of the Provincial Class 1 road test\n\n  \n\nMandatory attendance is required to complete the program in the dates you have chosen to attend.\n\n  \n\nTotal payment of $2500 will be due at time of booking.   Training hours over and above the allotted time is $150 per hour.\n\n  \n  \nIf you require further assistance\, please don’t hesitate to call or email us. \nFUNDING: Information and application can be found on Alberta Transportation website.
URL:https://www.startrite.ca/event/learning-pathways-class-1-competence-building/
LOCATION:AB
CATEGORIES:Learning Pathways Competence Building
ORGANIZER;CN="Start-Rite Driver Education":MAILTO:info@startrite.ca
END:VEVENT
END:VCALENDAR