BEGIN:VCALENDAR
VERSION:2.0
PRODID:-//Start-Rite Driver Education - Driving Classes &amp; Courses in Grande Prairie, AB - ECPv6.15.20//NONSGML v1.0//EN
CALSCALE:GREGORIAN
METHOD:PUBLISH
X-WR-CALNAME:Start-Rite Driver Education - Driving Classes &amp; Courses in Grande Prairie, AB
X-ORIGINAL-URL:https://www.startrite.ca
X-WR-CALDESC:Events for Start-Rite Driver Education - Driving Classes &amp; Courses in Grande Prairie, AB
REFRESH-INTERVAL;VALUE=DURATION:PT1H
X-Robots-Tag:noindex
X-PUBLISHED-TTL:PT1H
BEGIN:VTIMEZONE
TZID:America/Edmonton
BEGIN:DAYLIGHT
TZOFFSETFROM:-0700
TZOFFSETTO:-0600
TZNAME:MDT
DTSTART:20250309T090000
END:DAYLIGHT
BEGIN:STANDARD
TZOFFSETFROM:-0600
TZOFFSETTO:-0700
TZNAME:MST
DTSTART:20251102T080000
END:STANDARD
BEGIN:DAYLIGHT
TZOFFSETFROM:-0700
TZOFFSETTO:-0600
TZNAME:MDT
DTSTART:20260308T090000
END:DAYLIGHT
BEGIN:STANDARD
TZOFFSETFROM:-0600
TZOFFSETTO:-0700
TZNAME:MST
DTSTART:20261101T080000
END:STANDARD
BEGIN:DAYLIGHT
TZOFFSETFROM:-0700
TZOFFSETTO:-0600
TZNAME:MDT
DTSTART:20270314T090000
END:DAYLIGHT
BEGIN:STANDARD
TZOFFSETFROM:-0600
TZOFFSETTO:-0700
TZNAME:MST
DTSTART:20271107T080000
END:STANDARD
END:VTIMEZONE
BEGIN:VEVENT
DTSTART;TZID=America/Edmonton:20260105T080000
DTEND;TZID=America/Edmonton:20260109T170000
DTSTAMP:20260419T231308
CREATED:20251020T215847Z
LAST-MODIFIED:20251020T215847Z
UID:5617-1767600000-1767978000@www.startrite.ca
SUMMARY:Experience and Equivalency Class 1
DESCRIPTION:Experience and Equivalency Class 1 includes: \n                Core Learning: $4000.00 \n                Must be completed before doing the Competence Building & Road Test \n  \n\n3.5 hours online course (driver.training.alberta.ca)\n11.5 hours of in-yard training\n28.5 hours of in-cab training\n\n  \n  \nAn approval letter from Alberta Transportation must be provided prior to training \n\nStudents must have a full Class 3 Alberta Driver’s License with Airbrakes (Q) for minimum 2 years.\nStudents must pass a Driver’s Class 1 Medical before starting the program\nStudents must pass a Class 1 Knowledge Test at a Registries office prior to doing the road test\n\nMandatory attendance is required to complete the program in the dates you have chosen to attend. \nA non refundable deposit of $1500.00 due at time of booking. Total payment must be paid 1 month prior to start date. \nSeparate costs paid by the student include: \n\nRoad Test Permit: $217.00\nRoad Test Truck Fee: $300\nDriver’s Class 1 Medical\nClass 1 Knowledge Test at a Registries Office\n\n  \nCompetence Building: ($2500.00) \nMust be completed to remove Provincial restriction from license \n\n24 hours of in-yard and in-cab training\n\n 
URL:https://www.startrite.ca/event/experience-and-equivalency-class-1/
LOCATION:Start-Rite Grande Prairie Office\, 8502 – 112 Street Suite 101\, Grande Prairie\, AB\, T8V 6S4\, Canada
CATEGORIES:Experience and Equivalency
ORGANIZER;CN="Start-Rite Driver Education":MAILTO:info@startrite.ca
GEO:55.1571897;-118.8354266
X-APPLE-STRUCTURED-LOCATION;VALUE=URI;X-ADDRESS=Start-Rite Grande Prairie Office 8502 – 112 Street Suite 101 Grande Prairie AB T8V 6S4 Canada;X-APPLE-RADIUS=500;X-TITLE=8502 – 112 Street Suite 101:geo:-118.8354266,55.1571897
END:VEVENT
BEGIN:VEVENT
DTSTART;TZID=America/Edmonton:20260112T080000
DTEND;TZID=America/Edmonton:20260123T170000
DTSTAMP:20260419T231308
CREATED:20251020T215542Z
LAST-MODIFIED:20251020T215542Z
UID:5613-1768204800-1769187600@www.startrite.ca
SUMMARY:Learning Pathways Class 1
DESCRIPTION:Learning Pathways Class 1 program set by: Alberta Transportation \n10-day course excluding Saturdays\, Sundays\, and Holidays \nTraining times will vary but will be completed Monday through Friday (Call for details) \nLearning Pathways Course Includes: \n      Entry Program – $250.00 paid to Alberta Transportation (driver.training.alberta.ca) \nStudents must have a myalberta.ca account to sign in to do the online lessons \n\n40 hours of online training\n\nCore Learning Program – $6800.00 \n\n60 hours of in truck training including in-yard and in-cab training\n\nWhen the Core Learning has been completed students can do a Provincial Restricted Class 1 Road Test. The Restricted Class 1 allows students to drive Class 1within Alberta. \nCompetence Building – $2500.00 \n\n17-25 more hours of driver training\nWill focus on results of the Provincial Class 1 road test\n\n  \n\nStudents must have a full Class 5 Alberta Driver’s License to start the program.\nStudents must have a passed Driver’s Class 1 Medical before starting the program.\nAirbrakes Course must be taken before training begins. Cost for the Airbrakes Course is $250.00 and is 1-day 8:00am – 5:30 pm\nStudents must pass a Class 1 Knowledge Test at a Registries office after the classroom portion of the program before a Road Test can be confirmed.\nMandatory attendance is required to complete the program in the dates you have chosen to attend.\n\nA non-refundable deposit of $2000 due at time of booking. Total payment must be paid 1-month prior to course start date or Start-Rite reserves the right to pull the student from the Course.  There is a $300 fee for the use of our truck you trained in for your road test.  Training hours over and above the allotted time is $150 per hour. \n  \nSeparate costs paid by the student include: \n\nRoad Test Permit $217\nRoad Test Truck Time Fee $300\nDrivers Class 1 Medical\nAirbrakes at Start-Rite\nClass 1 Knowledge Test and Airbrakes Knowledge Test at a Registries Office $17.60 per test\n\nIf you require further assistance\, please don’t hesitate to call or email us. \nFUNDING: Information and application can be found on Alberta Transportation website.
URL:https://www.startrite.ca/event/learning-pathways-class-1-7/
LOCATION:Start-Rite Grande Prairie Office\, 8502 – 112 Street Suite 101\, Grande Prairie\, AB\, T8V 6S4\, Canada
CATEGORIES:Learning Pathways Class 1
ORGANIZER;CN="Start-Rite Driver Education":MAILTO:info@startrite.ca
GEO:55.1571897;-118.8354266
X-APPLE-STRUCTURED-LOCATION;VALUE=URI;X-ADDRESS=Start-Rite Grande Prairie Office 8502 – 112 Street Suite 101 Grande Prairie AB T8V 6S4 Canada;X-APPLE-RADIUS=500;X-TITLE=8502 – 112 Street Suite 101:geo:-118.8354266,55.1571897
END:VEVENT
BEGIN:VEVENT
DTSTART;TZID=America/Edmonton:20260126T080000
DTEND;TZID=America/Edmonton:20260206T170000
DTSTAMP:20260419T231308
CREATED:20251020T210701Z
LAST-MODIFIED:20251020T210701Z
UID:5593-1769414400-1770397200@www.startrite.ca
SUMMARY:Learning Pathways - Class 1
DESCRIPTION:Learning Pathways Class 1 program set by: Alberta Transportation \n10-day course excluding Saturdays\, Sundays\, and Holidays \nTraining times will vary but will be completed Monday through Friday (Call for details) \nLearning Pathways Course Includes: \n      Entry Program – $250.00 paid to Alberta Transportation (driver.training.alberta.ca) \nStudents must have a myalberta.ca account to sign in to do the online lessons \n\n40 hours of online training\n\nCore Learning Program – $6800.00 \n\n60 hours of in truck training including in-yard and in-cab training\n\nWhen the Core Learning has been completed students can do a Provincial Restricted Class 1 Road Test. The Restricted Class 1 allows students to drive Class 1within Alberta. \nCompetence Building – $2500.00 \n\n17-25 more hours of driver training\nWill focus on results of the Provincial Class 1 road test\n\n  \n\nStudents must have a full Class 5 Alberta Driver’s License to start the program.\nStudents must have a passed Driver’s Class 1 Medical before starting the program.\nAirbrakes Course must be taken before training begins. Cost for the Airbrakes Course is $250.00 and is 1-day 8:00am – 5:30 pm\nStudents must pass a Class 1 Knowledge Test at a Registries office after the classroom portion of the program before a Road Test can be confirmed.\nMandatory attendance is required to complete the program in the dates you have chosen to attend.\n\nA non-refundable deposit of $2000 due at time of booking. Total payment must be paid 1-month prior to course start date or Start-Rite reserves the right to pull the student from the Course.  There is a $300 fee for the use of our truck you trained in for your road test.  Training hours over and above the allotted time is $150 per hour. \n  \nSeparate costs paid by the student include: \n\nRoad Test Permit $217\nRoad Test Truck Time Fee $300\nDrivers Class 1 Medical\nAirbrakes at Start-Rite\nClass 1 Knowledge Test and Airbrakes Knowledge Test at a Registries Office $17.60 per test\n\nIf you require further assistance\, please don’t hesitate to call or email us. \nFUNDING: Information and application can be found on Alberta Transportation website.
URL:https://www.startrite.ca/event/learning-pathways-class-1-4/
LOCATION:Start-Rite Grande Prairie Office\, 8502 – 112 Street Suite 101\, Grande Prairie\, AB\, T8V 6S4\, Canada
CATEGORIES:Learning Pathways Class 1
ORGANIZER;CN="Start-Rite Driver Education":MAILTO:info@startrite.ca
GEO:55.1571897;-118.8354266
X-APPLE-STRUCTURED-LOCATION;VALUE=URI;X-ADDRESS=Start-Rite Grande Prairie Office 8502 – 112 Street Suite 101 Grande Prairie AB T8V 6S4 Canada;X-APPLE-RADIUS=500;X-TITLE=8502 – 112 Street Suite 101:geo:-118.8354266,55.1571897
END:VEVENT
END:VCALENDAR